BEGIN:VCALENDAR
VERSION:2.0
PRODID:-//Johnstown Castle - ECPv6.15.18//NONSGML v1.0//EN
CALSCALE:GREGORIAN
METHOD:PUBLISH
X-ORIGINAL-URL:https://johnstowncastle.ie
X-WR-CALDESC:Events for Johnstown Castle
REFRESH-INTERVAL;VALUE=DURATION:PT1H
X-Robots-Tag:noindex
X-PUBLISHED-TTL:PT1H
BEGIN:VTIMEZONE
TZID:Europe/Dublin
BEGIN:STANDARD
TZOFFSETFROM:+0000
TZOFFSETTO:+0100
TZNAME:IST
DTSTART:20220327T010000
END:STANDARD
BEGIN:DAYLIGHT
TZOFFSETFROM:+0100
TZOFFSETTO:+0000
TZNAME:GMT
DTSTART:20221030T010000
END:DAYLIGHT
BEGIN:STANDARD
TZOFFSETFROM:+0000
TZOFFSETTO:+0100
TZNAME:IST
DTSTART:20230326T010000
END:STANDARD
BEGIN:DAYLIGHT
TZOFFSETFROM:+0100
TZOFFSETTO:+0000
TZNAME:GMT
DTSTART:20231029T010000
END:DAYLIGHT
BEGIN:STANDARD
TZOFFSETFROM:+0000
TZOFFSETTO:+0100
TZNAME:IST
DTSTART:20240331T010000
END:STANDARD
BEGIN:DAYLIGHT
TZOFFSETFROM:+0100
TZOFFSETTO:+0000
TZNAME:GMT
DTSTART:20241027T010000
END:DAYLIGHT
END:VTIMEZONE
BEGIN:VEVENT
DTSTART;TZID=Europe/Dublin:20230513T100000
DTEND;TZID=Europe/Dublin:20231128T110000
DTSTAMP:20260421T104940
CREATED:20230504T155825Z
LAST-MODIFIED:20231104T212201Z
UID:9366-1683972000-1701169200@johnstowncastle.ie
SUMMARY:Yoga at Johnstown
DESCRIPTION:Alanna is a Yoga Teacher with a background in Mental Health Nursing. Combining her experience of working in the field of mental health with yoga teachings\, Alanna takes a considered approach to her yoga classes. She will be hosting weekly indoor classes every Tuesday & Saturday at 10am. \nWhat to expect:\nThis indoor slow yoga flow uses the surrounding nature & castle to create a calm and grounding energy for a lovely weekend reset. Through gentle\, intentional movement and connection with the breath we can learn to tune in to the body and bring calm to the mind. \nWhat is needed:\nThis class is suitable for all levels\, no previous yoga experience is necessary. \nAll you need to bring is a yoga mat\, and whatever else you might need to feel comfortable on the day (water bottle\, layers\, blanket etc). \n*We recommend arriving 15 minutes prior to the start time as this event will take place in the Castle’s stunning ballroom. \n** This event is non refundable and if required the location of the class can be moved to another area on a specific day**. 
URL:https://johnstowncastle.ie/event/yoga-at-johnstown/
LOCATION:Johnstown Castle Estate\, Y35 HP22\, Ireland
ATTACH;FMTTYPE=image/jpeg:https://johnstowncastle.ie/wp-content/uploads/sites/4/2023/05/thumbnail_Alanna3.jpg
ORGANIZER;CN="Johnstown Castle Estate%2C Museum and Gardens":MAILTO:info@johnstowncastle.ie
END:VEVENT
BEGIN:VEVENT
DTSTART;TZID=Europe/Dublin:20230828T110000
DTEND;TZID=Europe/Dublin:20231030T120000
DTSTAMP:20260421T104940
CREATED:20230816T150308Z
LAST-MODIFIED:20231104T211742Z
UID:9664-1693220400-1698667200@johnstowncastle.ie
SUMMARY:Meditation at Johnstown Castle
DESCRIPTION:Everyone experiences times of worry and stress in their life.Now\, more than ever before\, we want to feel calm\, focused\, and confident in ourselves. Practicing meditation can help clear away the mind’s chatter. Studies show that meditating even for as little as 10 minutes increases relaxation and decreases anxiety and depression! \nMeditation increases happiness\, reduces stress\, and promotes calmness. It shows you how to become fully present\, grounded\, and at peace in yourself. It can be much easier to learn meditation in a group than on your own. \nA teacher and therapist\, Anne Marie has shared mindfulness and meditation for many years. She embodies everything that these practices can bring. She will guide you to discover your own connection to life\, as you move towards real joy and happiness. \nJoin Anne Marie every Monday for a 1 hour meditation class inside the beautiful and serene Johnstown Castle. \nPlease bring a cushion/yoga mat/blanket to the class if you wish to be more comfortable. \nMember €10pp \nNon Member €15pp and includes general admission into the estate 
URL:https://johnstowncastle.ie/event/meditation-at-johnstown-castle/
LOCATION:Johnstown Castle Estate\, Y35 HP22\, Ireland
ATTACH;FMTTYPE=image/jpeg:https://johnstowncastle.ie/wp-content/uploads/sites/4/2023/08/thumbnail_Web-AnneMarie-22-Edit-Edit.jpg
ORGANIZER;CN="Johnstown Castle Estate%2C Museum and Gardens":MAILTO:info@johnstowncastle.ie
END:VEVENT
END:VCALENDAR