BEGIN:VCALENDAR
VERSION:2.0
PRODID:-//Johnstown Castle - ECPv6.15.18//NONSGML v1.0//EN
CALSCALE:GREGORIAN
METHOD:PUBLISH
X-ORIGINAL-URL:https://johnstowncastle.ie
X-WR-CALDESC:Events for Johnstown Castle
REFRESH-INTERVAL;VALUE=DURATION:PT1H
X-Robots-Tag:noindex
X-PUBLISHED-TTL:PT1H
BEGIN:VTIMEZONE
TZID:Europe/Dublin
BEGIN:STANDARD
TZOFFSETFROM:+0000
TZOFFSETTO:+0100
TZNAME:IST
DTSTART:20250330T010000
END:STANDARD
BEGIN:DAYLIGHT
TZOFFSETFROM:+0100
TZOFFSETTO:+0000
TZNAME:GMT
DTSTART:20251026T010000
END:DAYLIGHT
BEGIN:STANDARD
TZOFFSETFROM:+0000
TZOFFSETTO:+0100
TZNAME:IST
DTSTART:20260329T010000
END:STANDARD
BEGIN:DAYLIGHT
TZOFFSETFROM:+0100
TZOFFSETTO:+0000
TZNAME:GMT
DTSTART:20261025T010000
END:DAYLIGHT
BEGIN:STANDARD
TZOFFSETFROM:+0000
TZOFFSETTO:+0100
TZNAME:IST
DTSTART:20270328T010000
END:STANDARD
BEGIN:DAYLIGHT
TZOFFSETFROM:+0100
TZOFFSETTO:+0000
TZNAME:GMT
DTSTART:20271031T010000
END:DAYLIGHT
END:VTIMEZONE
BEGIN:VEVENT
DTSTART;TZID=Europe/Dublin:20260214T200000
DTEND;TZID=Europe/Dublin:20260214T220000
DTSTAMP:20260423T165330
CREATED:20251218T144037Z
LAST-MODIFIED:20260129T154213Z
UID:11902-1771099200-1771106400@johnstowncastle.ie
SUMMARY:Imelda's Valentine's Concert
DESCRIPTION:Imelda Kehoe is known for her distinctive voice\, story-telling and blend of jazz and soul and has been described as ‘one of the finest Irish contemporary  songwriters to emerge in recent years’.  \nAnd because Imelda treats a song as an emotional whole and can capture the joyful essence of what it feels like to love and be loved\, it follows that she is the perfect fit for the annual Jazz at Johnstown Valentine’s concert on Saturday\, February 14th. \nImelda’s performance in the Ballroom alongside pianist Killian Browne was one of the highlights of the 2025 Jazz at Johnstown Festival. Killian’s mastery of the piano helped Imelda capture the gorgeous essence of classic songs like God Only Knows. \nKillian joins Imelda’s quartet on February 14th for an evening of romance\, jazz style: you will find nothing is quite as seductive as the bluesy timbre of Imelda’s voice weaving silken phrases to make the heart sing.
URL:https://johnstowncastle.ie/event/imeldas-valentines-concert/
LOCATION:Johnstown Castle Estate\, Y35 HP22\, Ireland
ATTACH;FMTTYPE=image/jpeg:https://johnstowncastle.ie/wp-content/uploads/sites/4/2025/12/VALENTINES-JAZZ-WEB-PIC.jpg
END:VEVENT
END:VCALENDAR