BEGIN:VCALENDAR
VERSION:2.0
PRODID:-//Johnstown Castle - ECPv6.15.18//NONSGML v1.0//EN
CALSCALE:GREGORIAN
METHOD:PUBLISH
X-WR-CALNAME:Johnstown Castle
X-ORIGINAL-URL:https://johnstowncastle.ie
X-WR-CALDESC:Events for Johnstown Castle
REFRESH-INTERVAL;VALUE=DURATION:PT1H
X-Robots-Tag:noindex
X-PUBLISHED-TTL:PT1H
BEGIN:VTIMEZONE
TZID:Europe/Dublin
BEGIN:STANDARD
TZOFFSETFROM:+0000
TZOFFSETTO:+0100
TZNAME:IST
DTSTART:20250330T010000
END:STANDARD
BEGIN:DAYLIGHT
TZOFFSETFROM:+0100
TZOFFSETTO:+0000
TZNAME:GMT
DTSTART:20251026T010000
END:DAYLIGHT
BEGIN:STANDARD
TZOFFSETFROM:+0000
TZOFFSETTO:+0100
TZNAME:IST
DTSTART:20260329T010000
END:STANDARD
BEGIN:DAYLIGHT
TZOFFSETFROM:+0100
TZOFFSETTO:+0000
TZNAME:GMT
DTSTART:20261025T010000
END:DAYLIGHT
BEGIN:STANDARD
TZOFFSETFROM:+0000
TZOFFSETTO:+0100
TZNAME:IST
DTSTART:20270328T010000
END:STANDARD
BEGIN:DAYLIGHT
TZOFFSETFROM:+0100
TZOFFSETTO:+0000
TZNAME:GMT
DTSTART:20271031T010000
END:DAYLIGHT
END:VTIMEZONE
BEGIN:VEVENT
DTSTART;TZID=Europe/Dublin:20260424T110000
DTEND;TZID=Europe/Dublin:20260424T150000
DTSTAMP:20260424T011556
CREATED:20250211T140002Z
LAST-MODIFIED:20260420T102316Z
UID:10732-1777028400-1777042800@johnstowncastle.ie
SUMMARY:Family Cemetery Open
DESCRIPTION:The family cemetery at Johnstown Castle will open to the public on Friday 24th April. This coincides with the anniversary of Lord Maurice Fitzgerald. \nVisitors wishing to pay their respects or visit family graves can do so during 11:00am – 3:00pm. Weather dependent. \nEntry is free for valid IHT membership holders and included with daily admission for all other visitors. Please note that the cemetery is not wheelchair accessible.
URL:https://johnstowncastle.ie/event/family-cemetery-open/
LOCATION:Johnstown Castle Estate\, Y35 HP22\, Ireland
ATTACH;FMTTYPE=image/jpeg:https://johnstowncastle.ie/wp-content/uploads/sites/4/2025/02/Cemetery-Open-Web-Pic.jpg
ORGANIZER;CN="Johnstown Castle Estate%2C Museum and Gardens":MAILTO:info@johnstowncastle.ie
END:VEVENT
END:VCALENDAR