BEGIN:VCALENDAR
VERSION:2.0
PRODID:-//Johnstown Castle - ECPv6.15.18//NONSGML v1.0//EN
CALSCALE:GREGORIAN
METHOD:PUBLISH
X-ORIGINAL-URL:https://johnstowncastle.ie
X-WR-CALDESC:Events for Johnstown Castle
REFRESH-INTERVAL;VALUE=DURATION:PT1H
X-Robots-Tag:noindex
X-PUBLISHED-TTL:PT1H
BEGIN:VTIMEZONE
TZID:Europe/Dublin
BEGIN:STANDARD
TZOFFSETFROM:+0000
TZOFFSETTO:+0100
TZNAME:IST
DTSTART:20220327T010000
END:STANDARD
BEGIN:DAYLIGHT
TZOFFSETFROM:+0100
TZOFFSETTO:+0000
TZNAME:GMT
DTSTART:20221030T010000
END:DAYLIGHT
BEGIN:STANDARD
TZOFFSETFROM:+0000
TZOFFSETTO:+0100
TZNAME:IST
DTSTART:20230326T010000
END:STANDARD
BEGIN:DAYLIGHT
TZOFFSETFROM:+0100
TZOFFSETTO:+0000
TZNAME:GMT
DTSTART:20231029T010000
END:DAYLIGHT
BEGIN:STANDARD
TZOFFSETFROM:+0000
TZOFFSETTO:+0100
TZNAME:IST
DTSTART:20240331T010000
END:STANDARD
BEGIN:DAYLIGHT
TZOFFSETFROM:+0100
TZOFFSETTO:+0000
TZNAME:GMT
DTSTART:20241027T010000
END:DAYLIGHT
END:VTIMEZONE
BEGIN:VEVENT
DTSTART;TZID=Europe/Dublin:20230513T100000
DTEND;TZID=Europe/Dublin:20231128T110000
DTSTAMP:20260421T121648
CREATED:20230504T155825Z
LAST-MODIFIED:20231104T212201Z
UID:9366-1683972000-1701169200@johnstowncastle.ie
SUMMARY:Yoga at Johnstown
DESCRIPTION:Alanna is a Yoga Teacher with a background in Mental Health Nursing. Combining her experience of working in the field of mental health with yoga teachings\, Alanna takes a considered approach to her yoga classes. She will be hosting weekly indoor classes every Tuesday & Saturday at 10am. \nWhat to expect:\nThis indoor slow yoga flow uses the surrounding nature & castle to create a calm and grounding energy for a lovely weekend reset. Through gentle\, intentional movement and connection with the breath we can learn to tune in to the body and bring calm to the mind. \nWhat is needed:\nThis class is suitable for all levels\, no previous yoga experience is necessary. \nAll you need to bring is a yoga mat\, and whatever else you might need to feel comfortable on the day (water bottle\, layers\, blanket etc). \n*We recommend arriving 15 minutes prior to the start time as this event will take place in the Castle’s stunning ballroom. \n** This event is non refundable and if required the location of the class can be moved to another area on a specific day**. 
URL:https://johnstowncastle.ie/event/yoga-at-johnstown/
LOCATION:Johnstown Castle Estate\, Y35 HP22\, Ireland
ATTACH;FMTTYPE=image/jpeg:https://johnstowncastle.ie/wp-content/uploads/sites/4/2023/05/thumbnail_Alanna3.jpg
ORGANIZER;CN="Johnstown Castle Estate%2C Museum and Gardens":MAILTO:info@johnstowncastle.ie
END:VEVENT
BEGIN:VEVENT
DTSTART;TZID=Europe/Dublin:20230517T110000
DTEND;TZID=Europe/Dublin:20230830T120000
DTSTAMP:20260421T121648
CREATED:20230505T085751Z
LAST-MODIFIED:20250325T130842Z
UID:9369-1684321200-1693396800@johnstowncastle.ie
SUMMARY:Qi Gong at Johnstown Castle
DESCRIPTION:Qi Gong is an ancient Chinese form of movement and meditation to improve health and well-being. \nIn the outdoor Qi Gong class with Mary you will start with a Wellness Qi Gong warm up routine. This will be followed by a Shaolin Stretching (Yi Jing Ba Shi) routine to activate and stretch the main energy meridians. \nWe will finish with Han Yang Ryu Yi Gong – a moving meditation to harmonise the yin and yang energy in the body. \nNo special equipment is required for the class as all routines are performed standing. Wear comfortable clothes and shoes. \nMary will be hosting weekly classes every Wednesday at 11am. \nThis event is non refundable and if required can be moved indoors on any given day.
URL:https://johnstowncastle.ie/event/qi-gong-at-johnstown-castle/
LOCATION:Johnstown Castle Estate\, Y35 HP22\, Ireland
ATTACH;FMTTYPE=image/png:https://johnstowncastle.ie/wp-content/uploads/sites/4/2023/05/Picture-3.png
ORGANIZER;CN="Johnstown Castle Estate%2C Museum and Gardens":MAILTO:info@johnstowncastle.ie
END:VEVENT
BEGIN:VEVENT
DTSTART;TZID=Europe/Dublin:20230615T110000
DTEND;TZID=Europe/Dublin:20230615T123000
DTSTAMP:20260421T121648
CREATED:20230522T194020Z
LAST-MODIFIED:20230612T143930Z
UID:9388-1686826800-1686832200@johnstowncastle.ie
SUMMARY:Guided Tree Walk with Head Gardener Ciarán Fitzgerald
DESCRIPTION:Join Head Gardener Ciarán Fitzgerald on a fascinating guided tree walk on Johnstown Castles Estate on Thursday 15th June at 11am. Ciarán will talk about the huge variety of trees throughout the estate. \nHe will also discuss the future plans for the estate including the plans for the walled garden and gardeners house and the ongoing work. \nThe tour duration is approx. 1.5 hours and the meeting point is in the courtyard.\n**We recommend arriving 15 minutes prior to the start time to allow for check in and to collect your tickets at the desk.**
URL:https://johnstowncastle.ie/event/guided-tree-walk/
LOCATION:Johnstown Castle Estate\, Y35 HP22\, Ireland
ATTACH;FMTTYPE=image/jpeg:https://johnstowncastle.ie/wp-content/uploads/sites/4/2023/05/Walking-Tour-Image-6.jpg
ORGANIZER;CN="Johnstown Castle Estate%2C Museum and Gardens":MAILTO:info@johnstowncastle.ie
END:VEVENT
BEGIN:VEVENT
DTSTART;TZID=Europe/Dublin:20230617T110000
DTEND;TZID=Europe/Dublin:20230617T120000
DTSTAMP:20260421T121648
CREATED:20230522T200717Z
LAST-MODIFIED:20230522T202244Z
UID:9391-1686999600-1687003200@johnstowncastle.ie
SUMMARY:Lady Catherine Colclough by Alan Ryan
DESCRIPTION:Come along to what is sure to be a fascinating talk about Lady Catherine Colclough on Saturday 17th June at 11am. \nLearn about this intriguing character who was born into the Grogan family at Johnstown Castle. The talk will be presented by Alan Ryan\, Project Manager for Colclough Walled Garden. Alan will also provide an update on latest work at the garden. \nThis event will take place in the Ballroom in the newly restored East Wing of the Castle. \n**We recommend arriving 15 minutes prior to the start time to allow for check in\, to collect your tickets at the desk and make your way to the castle ballroom**
URL:https://johnstowncastle.ie/event/lady-catherine-colclough-by-alan-ryan/
LOCATION:Johnstown Castle Estate\, Y35 HP22\, Ireland
ATTACH;FMTTYPE=image/jpeg:https://johnstowncastle.ie/wp-content/uploads/sites/4/2023/05/grogan.jpg
ORGANIZER;CN="Johnstown Castle Estate%2C Museum and Gardens":MAILTO:info@johnstowncastle.ie
END:VEVENT
BEGIN:VEVENT
DTSTART;TZID=Europe/Dublin:20230617T143000
DTEND;TZID=Europe/Dublin:20230617T154500
DTSTAMP:20260421T121648
CREATED:20230325T111909Z
LAST-MODIFIED:20230530T101444Z
UID:9214-1687012200-1687016700@johnstowncastle.ie
SUMMARY:Heraldic Castle Tour with Peter Henry
DESCRIPTION:Date: Saturday 17th June at 14:30pm. \nJohnstown Castle is decorated with many heraldic emblems – birds\, bears\, griffins\, lions and more – representing the families who owned the estate. \nThe interior and exterior feature coats of arms connected to the Grogans and their descendants\, many of them indicating the marriages that took place between them and other wealthy families – including names such as Reynolds\, Jervis\, Rowe\, Forbes and FitzGerald. \nBeyond the castle itself\, many documents and other items connected to the castle’s proprietors are marked with these intriguing decorations. On Saturday\,17th June\, Peter Henry will lead a special tour of the castle\, pointing out and identifying the various items of heraldry and giving a general introduction to this colourful\, esoteric subject. \nPeter is the author of The Heraldry of Johnstown Castle: A Wexford Estate’s Armorial History (2019)\, which is available in the Visitor Centre shop (limited availability). This tour will be especially interesting to local history enthusiasts who want to further their knowledge of the castle and its owners\, from the Esmondes to the Grogans\, Fitzgeralds and Lakins.
URL:https://johnstowncastle.ie/event/heraldic-castle-tour-with-peter-henry/
LOCATION:Johnstown Castle Estate\, Y35 HP22\, Ireland
ATTACH;FMTTYPE=image/jpeg:https://johnstowncastle.ie/wp-content/uploads/sites/4/2023/03/6.jpg
ORGANIZER;CN="Johnstown Castle Estate%2C Museum and Gardens":MAILTO:info@johnstowncastle.ie
END:VEVENT
BEGIN:VEVENT
DTSTART;VALUE=DATE:20230623
DTEND;VALUE=DATE:20230626
DTSTAMP:20260421T121648
CREATED:20230601T133936Z
LAST-MODIFIED:20230601T134232Z
UID:9409-1687478400-1687737599@johnstowncastle.ie
SUMMARY:Jazz at Johnstown - 3 Day Festival
DESCRIPTION:Jazz at Johnstown Festival \nThe biggest outdoor jazz festival in the South East takes place in Wexford across three days from June 23 to June 25. \nOver 14 bands and 35 musicians from throughout the country will take part in the third outdoor Jazz at Johnstown festival. \nHosted on the grounds of Johnstown Castle\, some of the biggest names in Irish jazz –Stella Bass\, Carole Nelson Trio\, Lee Meehan Quintet and Cormac Kenevey – will bring star-studded bands to the Wexford venue. \nA series of outdoor stages – the Castle Stage\, the Sunken Garden\, the Visitors Centre’s jazz on the grass\, the Courtyard – will accommodate two full days of live jazz on Saturday and Sunday. Admission to the festival is free for members\, €9 a day for adult\, €7 for OAP/Students\, €4 child\, or €24 per day for a family of two adults and two children (Under 5’s are Free). General Admission tickets can be pre-purchased here: https://rb.gy/07bn8 \nA separate admission charge is in place for the evening headline acts at the Visitors Centre on Friday night (Mark Redmond and Chris Colloton Trio) and Saturday (Stella Bass with Barry Donohue\, Dominic Mullan and Johnny Taylor). \nJazz at Johnstown is a recipient of the Small Arts Festivals and Experimental Art Events Grants Scheme 2023 from the Arts Department\, Wexford Co. Council. It is also supported by Johnstown Castle\, Rosslare Municipal District\, Wexford Co. Council\, the Environmental Protection Agency\, the Irish Heritage Trust and Price Waterhouse Cooper. \nFULL SCHEDULE: *Subject to change* \nMark Redmond and Chris Colloton Trio \nJazz at Johnstown\, in the first of two indoor concerts at the Visitors Centre\, brings together jazz and Irish trad to celebrate the 50th anniversary of the seminal Horslips album\, The Táin. Our special guest is Wexford piper Mark Redmond\, playing alongside Jazz at Johnstown frequent headliners\, the Chris Colloton Trio\, featuring on keyboards the young wizard Killian Browne\, and guesting on drums\, the brilliant Lorcan Byrne.  Guitar supremo Chris and Mark will reimagine The Táin\, which represented the zenith of the Horslips’ Celtic Symphony years\, as the opening concert of the 2023 Jazz at Johnstown festival. The coming together of these great musicians will demonstrate how both trad and jazz can easily incorporate aspects of each other into a stunning fusion of improvisational brilliance. Making his debut at Jazz at Johnstown\, Mark Redmond has toured globally as a soloist and ensemble musician. This is a one-off occasion to see these four eminent musicians playing a classic from the Irish repertoire as an ensemble. (8 p.m @ the Visitors Centre) \nSATURDAY\, JUNE 24 \nThe Ivy Sisters \nThe Ivy Sisters (Sharon Clancy\, Jilly Cox and Aileen Donohoe)\, a vintage vocal harmony trio from Wexford\, is one of the country’s most accomplished exponents of vocal jazz and swing. A live performance by these singers\, all of whom come from a performing and theatrical background including the West End\, promises a cocktail of sassy entertainment which can switch from seductive harmonising to a full blown\, delicious euphony of pitch-perfect harmony\, in seconds. A perennial favourite at Jazz at Johnstown. \n(11.30 a.m @ the Visitors Centre) \nCarole Nelson Trio \nCarole is a London-born jazz pianist\, saxophonist and composer who has been living in Ireland since 1986. Her current project\, the Carole Nelson Trio\, with Carole on piano\, bassist Cormac O’Brien and drummer Dominic Mullen\, began at a piano festival in Dublin in 2015. Their first album\, One Day in Winter was released November 2017. Comprising all original compositions from Carole\, the album follows the course of a winter’s day\, inspired by the South County Carlow landscape between the River Barrow and the Blackstairs Mountains\, where she currently lives and was described as ‘a finely-wrought meditation that tapped into the spacious European piano trio tradition of Tord Gustavsen and Marcin Wasilewski’ by Cormac Larkin in The Irish Times. Arboreal is the trio’s second album\, which was released in 2020 and featured another collection of outstanding compositions. \n(12.30 p.m. @ the Sunken Garden) \nGediminas Karkauskas Trio \nGediminas Karkauskas from Lithuania is a jazz pianist\, composer and educator who has been living in Dublin for the past two decades. In 2020 Gediminas released his debut album\, Lost Suite\, which was critically acclaimed not only in Europe but also in the USA\, where it remained in the charts for fifteen weeks. It was cited by ‘jazzfuel’ as one of the top jazz albums of the year whilst American author Debbie Burke devoted a whole chapter of her book \, “tasty jazz jams for our times vol.2” to an appreciation of Lost Suite. Gediminas will be joined by Wexford drummer Kevin Lawlor and Kilkenny bassist Adrian Jackson. \n(1.15 p.m.  @ Johnstown Castle) \nÄTSCH \nDublin four-piece ÄTSCH started life in 2016 as the graduation project of German-born guitarist Matthias Winkler\, but the chemistry between its members – the band also features keyboardist Graeme Bourke\, bassist Eoin O’Halloran and drummer Hugh Denman – has kept them together over the last six years: the band’s third album proves the musical rewards that can flow from such sustained engagement. \n(2.15 p.m. @ the Visitors Centre) \nPogo Bear \nPogo Bear – Daniel Rorke\, saxophone\, Cormac O’Brien\, double bass and Shane O’Dononvan\, drums – is a trio of dynamic and innovative musicians. Formed in the vibrant and thriving music scene in Dublin\, this trio have honed their sound over recent years\, drawing inspiration from a wide range of musical genres. They have created a distinctive sound that is both accessible and complex\, showcasing their technical proficiency and improvisational skills. Pogo’s live shows are a tour de force of energy and creativity\, with each member taking turns to shine as they weave intricate melodies and harmonies together. From high-energy bebop to soulful ballads\, this trio seamlessly blends genres and styles to create a truly unique musical experience. Whether on stage or in the studio\, this trio is a true embodiment of the power of collective musical expression. \n(3.15 p.m. @ the Courtyard) \nTBL8 \nTBL8 is a big-band inspired brass and stage ensemble based in Dublin and playing together since June 2017. Most of the band learned their instruments in the Finglas Concert and Marching Band as kids\, where they became friends and started playing the music they wanted to play. Since then\, they have put together a set-list of both original compositions as well as original arrangements based on modern pop songs. \n(4.15 p.m. @ the Visitors Centre) \nStella Bass (with Barry Donohue\, Dominic Mullan and Johnny Taylor) \nIf ever a trio of musicians in contemporary Irish jazz warranted the description as a super group\, bassist Barry Donohue\, drummer Dominic Mullan and keyboardist Johnny Taylor fit the bill. They are the sensational sound behind one of the best jazz vocalists in the country\, Stella Bass\, making her Jazz at Johnstown debut on Saturday\, June 24\, at 8 p.m. \nSince she released her first album in 2014\, Stella has performed at most of the major jazz festivals in Ireland\, as well as at Pizza Express in London and jazz venues in Germany\, France and Australia. She was a headline act at the 2017 Cork Jazz Festival in a concert she devised with acclaimed jazz guitarist Hugh Buckley\, which paid tribute to the Ella Fitzgerald/Joe Pass collaborations. \nThis show also toured Ireland that year\, and sold out twice in Dublin’s National Concert Hall. Stella had similar sell-out success in the NCH with her jazz-inspired interpretations of the music of Broadway composer Stephen Sondheim; this concert also toured Ireland. Stella’s versatile repertoire crosses over jazz\, classical and musical theatre\, though she is still most at home singing her beloved jazz standards\, inspired by her major influences\, Ella Fitzgerald and Barbra Streisand. \n(8 p.m. @ the Visitors Centre) \nSUNDAY JUNE 25 \nJazz Alley \nFor such a short and innocuous word\, ‘Swing’ packs quite a punch in jazz\,  and few ensembles pack as powerfully and as infectiously as the Vicky Barron-led Jazz Alley. Last year’s Jazz at Johnstown festival opener\, Jazz Alley will return to the familiar haunt of jazz on the grass at the Visitors Centre\, with a set which includes popular favourites and occasional rarities with an astonishing sound. Jazz never gets old\, played by a band like Jazz Alley from Wexford. Vicky’s unique tone and approach to melody have helped define lyrical saxophone playing in Wexford for many\, many years. \n(11.45 a.m. @ the Visitors Centre) \nMelanie O’Reilly Quartet \nWexford-based Melanie O’Reilly and her star-laden swing jazz trio – Gediminas Karkauskas – piano\, Adrian Jackson –bass and Kevin Lawlor – drums present a bouquet of sultry swinging jazz celebrating legendary singers Anita O’Day\, Ella Fitzgerald\, Rosemary Clooney\, Nina Simone\, Mel Torme\, Jon Hendricks among many\, revisiting the Great American Songbook while bringing new life to the memory of  jazz vocal legends and songwriters of Tin Pan Alley. \n(1. p.m.  @ the Sunken Garden) \nPresto \nPresto from Wexford is a newly formed duo between Des O’ Callaghan and Hayley Crosbie. Between them they have a whirlwind of experience! Guaranteed to provide a high energy and entertaining performance with a variety of different music\, from classics to modern to jazz! They are not to be missed over a cup of coffee or Sunday lunch! \n(1.15 p.m. @ the Visitors Centre restaurant) \nCormac Kenevey (with Dominic Mullan\, Dave Redmond and Johnny Taylor) \nIn 2006\, Cormac Kenevey funded and recorded his first album This Is Living – a collaboration with the exceptionally talented Dublin stalwart Phil Ware and his Trio. It was quickly picked up and released by Alan Bates at the CANDID record label in London (home to Stacey Kent and Jamie Cullum). Thus began a career as a jazz singer with a string of critically acclaimed national and international appearances. His second album The Art of Dreaming confirmed his place on the international jazz scene. His tour dates have included locations in London (Ronnie Scott’s\, Pizza Express Dean St) around Europe\, and as far afield Abu Dhabi and Mexico. During this period he also took the time to complete a Master’s Degree in Jazz performance\, specialising in the art of Vocalese and in the vocal stylings of hero and eventual mentor\, Mark Murphy. A big crowd favourite last year\, he brings a magnificent trio to Jazz at Johnstown: Dominic Mullan\, Dave Redmond and Johnny Taylor. \n(2.15 p.m.  @ the Visitors Centre) \nSharon Clancy Trio \nAn opportunity to see this ensemble on home soil before it makes its international debut at the Aberjazz International Festival in the UK in August. With Vicky Barron on saxophone/clarinet and Terry Byrne on keyboards/piano\, singer Sharon Clancy can sing straight-ahead jazz with aplomb but switch styles in the blink of an eye. A frequent headliner over the years at Jazz at Johnstown with the Chris Colloton Trio\, Sharon has both a smouldering and sensuous vocal with a seasoned performer’s mastery of the stage. \n(3.15 p.m.  @ the Courtyard) \nLee Meehan Quintet (with Shane O’Donovan\, Dave Redmond and Darragh O’Kelly) \nThe Lee Meehan Quintet is a high octane ensemble. Lee\, guitar\, will be joined on stage by the incredible talent of Shane O’Donovan on drums\, Dave Redmond on bass\, Darragh O’Kelly on keyboards and Michael Buckley on saxophone. Lee will be performing his own original songs as well as jazz standards from the great American songbook. Lee is best known on the Irish music circuit for being a blues guitarist and singer playing with the likes of Don Baker\, The 9Bars (9bar blues band) Gotcha!\, The Business\, Rob Strong\, Damien Dempsey\, Mik Pyro (Republic Of Loose). After hearing Wes Montgomery for the first time Lee quickly became fascinated with jazz and studied the genre extensively for some time. \n(4.15 p.m. @ the Visitors Centre)
URL:https://johnstowncastle.ie/event/jazz-at-johnstown-3-day-festival/
LOCATION:Johnstown Castle Estate\, Y35 HP22\, Ireland
CATEGORIES:Featured
ATTACH;FMTTYPE=image/jpeg:https://johnstowncastle.ie/wp-content/uploads/sites/4/2023/06/20220716_140927-landscape-scaled.jpg
ORGANIZER;CN="Johnstown Castle Estate%2C Museum and Gardens":MAILTO:info@johnstowncastle.ie
END:VEVENT
BEGIN:VEVENT
DTSTART;TZID=Europe/Dublin:20230624T200000
DTEND;TZID=Europe/Dublin:20230624T223000
DTSTAMP:20260421T121648
CREATED:20230505T091514Z
LAST-MODIFIED:20230612T151102Z
UID:9357-1687636800-1687645800@johnstowncastle.ie
SUMMARY:Jazz Pizzazz with Stella Bass
DESCRIPTION:If ever a trio of musicians in contemporary Irish jazz warranted the description as a super group\, bassist Barry Donahue\, drummer Dominic Mullen and keyboardist Johnny Taylor fit the bill. They will be the sensational sound behind one of the best jazz vocalists in the country\, Stella Bass. Stella is making her Jazz at Johnstown debut on Saturday\, June 24\, at 8 p.m. \nSince she released her first album in 2014\, Stella has performed at most of the major jazz festivals in Ireland. She has also performed at the famous Pizza Express in London and jazz venues in Germany\, France and Australia. \nStella was a headline act at the 2017 Cork Jazz Festival in a concert she devised with acclaimed jazz guitarist Hugh Buckley\, which paid tribute to the Ella Fitzgerald/Joe Pass collaborations. \nThis show also toured Ireland that year\, and sold out twice in Dublin’s National Concert Hall. Stella had similar sell-out success in the NCH with her jazz-inspired interpretations of the music of Broadway composer Stephen Sondheim. This concert also toured Ireland. \nStella’s versatile repertoire crosses over jazz\, classical and musical theatre\, though she is still most at home singing her beloved jazz standards. Stella is  inspired by her major influences\, Ella Fitzgerald and Barbra Streisand. \n**Tickets for this show are limited and tickets must be pre-booked. We recommend arriving 20 minutes prior to the start time to allow for check in and to purchase refreshments.**
URL:https://johnstowncastle.ie/event/jazz-pizzazz-with-stella-bass/
LOCATION:Johnstown Castle Estate\, Y35 HP22\, Ireland
ATTACH;FMTTYPE=image/jpeg:https://johnstowncastle.ie/wp-content/uploads/sites/4/2023/05/Stella-Bass-scaled.jpg
ORGANIZER;CN="Johnstown Castle Estate%2C Museum and Gardens":MAILTO:info@johnstowncastle.ie
END:VEVENT
END:VCALENDAR